BEGIN:VCALENDAR
VERSION:2.0
PRODID:-//Narfeyrarstofa - ECPv6.15.20//NONSGML v1.0//EN
CALSCALE:GREGORIAN
METHOD:PUBLISH
X-ORIGINAL-URL:https://narfeyrarstofa.is
X-WR-CALDESC:Events for Narfeyrarstofa
REFRESH-INTERVAL;VALUE=DURATION:PT1H
X-Robots-Tag:noindex
X-PUBLISHED-TTL:PT1H
BEGIN:VTIMEZONE
TZID:UTC
BEGIN:STANDARD
TZOFFSETFROM:+0000
TZOFFSETTO:+0000
TZNAME:UTC
DTSTART:20180101T000000
END:STANDARD
END:VTIMEZONE
BEGIN:VEVENT
DTSTART;TZID=UTC:20221013T200000
DTEND;TZID=UTC:20221013T220000
DTSTAMP:20260420T161836
CREATED:20221004T103725Z
LAST-MODIFIED:20221004T103725Z
UID:3267-1665691200-1665698400@narfeyrarstofa.is
SUMMARY:Prjónaklúbbur - Knitting night
DESCRIPTION:
URL:https://narfeyrarstofa.is/event/prjonaklubbur-knitting-night/
END:VEVENT
BEGIN:VEVENT
DTSTART;TZID=UTC:20221006T200000
DTEND;TZID=UTC:20221006T230000
DTSTAMP:20260420T161836
CREATED:20221004T103228Z
LAST-MODIFIED:20221004T103228Z
UID:3264-1665086400-1665097200@narfeyrarstofa.is
SUMMARY:Spilakvöld / Game night
DESCRIPTION:
URL:https://narfeyrarstofa.is/event/spilakvold-game-night/
END:VEVENT
BEGIN:VEVENT
DTSTART;VALUE=DATE:20210521
DTEND;VALUE=DATE:20210524
DTSTAMP:20260420T161836
CREATED:20210226T104638Z
LAST-MODIFIED:20210226T110633Z
UID:3164-1621555200-1621814399@narfeyrarstofa.is
SUMMARY:Cocktail Weekend in Stykkishólmur - Hanastélshelgi í Hólminum
DESCRIPTION:Stykkishólmur Cocktail Weekend/Hanasstélshelgi í Hólminum verður haldin um Hvítasunnuna 21. – 23. maí 2021.\nVið tökum þátt og hvetjum aðdáendur kokteila til að taka frá þessa daga.\nHvað dettur kokteilgerðarfólki í hug þetta árið???\nFylgist með!\n\nStykkishólmur Cocktail Weekend will be held in Stykkishólmur Friday-Sunday May 21.-23.\, 2021.\nRestaurants/Bars in Stykkishólmur take part in a exciting competition for the best cocktail in 2021.\nStay tuned!
URL:https://narfeyrarstofa.is/event/cocktail-weekend-in-stykkisholmur-hanastelshelgi-i-holminum/
LOCATION:Narfeyrarstofa\, Aðalgata 3\, 340 Stykkishólmur\, IS340\, Iceland
ATTACH;FMTTYPE=image/jpeg:https://narfeyrarstofa.is/wp-content/uploads/2019/09/narf.vefmyndir.19-1-11.jpg
END:VEVENT
BEGIN:VEVENT
DTSTART;VALUE=DATE:20200101
DTEND;VALUE=DATE:20200201
DTSTAMP:20260420T161836
CREATED:20191022T132501Z
LAST-MODIFIED:20191022T132501Z
UID:3033-1577836800-1580515199@narfeyrarstofa.is
SUMMARY:Janúarlokun! / Closed in January
DESCRIPTION:We’re closed in January but our good friends at Sjávarpakkhúsið are open! See you in February! \nLokað hjá okkur í janúar en vinir okkar á Sjávarpakkhúsinu taka vel á móti gestum. Sjáumst í febrúar
URL:https://narfeyrarstofa.is/event/januarlokun-closed-in-january/
CATEGORIES:Events-Info
END:VEVENT
BEGIN:VEVENT
DTSTART;TZID=UTC:20191227T050000
DTEND;TZID=UTC:20191230T090000
DTSTAMP:20260420T161836
CREATED:20191108T131849Z
LAST-MODIFIED:20191108T132040Z
UID:3043-1577422800-1577696400@narfeyrarstofa.is
SUMMARY:Open / Opið
DESCRIPTION:
URL:https://narfeyrarstofa.is/event/closed-lokad-christmas-time/
LOCATION:Narfeyrarstofa\, Aðalgata 3\, 340 Stykkishólmur\, IS340\, Iceland
CATEGORIES:Events-Info
ATTACH;FMTTYPE=image/jpeg:https://narfeyrarstofa.is/wp-content/uploads/2019/11/narf-jola-1-2.jpg
END:VEVENT
BEGIN:VEVENT
DTSTART;VALUE=DATE:20191224
DTEND;VALUE=DATE:20191227
DTSTAMP:20260420T161836
CREATED:20191108T132955Z
LAST-MODIFIED:20191108T132955Z
UID:3056-1577145600-1577404799@narfeyrarstofa.is
SUMMARY:Closed for Christmas / Lokað yfir hátíðirnar
DESCRIPTION:
URL:https://narfeyrarstofa.is/event/closed-for-christmas-lokad-yfir-hatidirnar/
LOCATION:Narfeyrarstofa\, Aðalgata 3\, 340 Stykkishólmur\, IS340\, Iceland
CATEGORIES:Events-Info
ATTACH;FMTTYPE=image/jpeg:https://narfeyrarstofa.is/wp-content/uploads/2019/11/narf-jola-2.jpg
END:VEVENT
BEGIN:VEVENT
DTSTART;TZID=UTC:20191223T113000
DTEND;TZID=UTC:20191223T170000
DTSTAMP:20260420T161836
CREATED:20191108T133121Z
LAST-MODIFIED:20191108T133121Z
UID:3059-1577100600-1577120400@narfeyrarstofa.is
SUMMARY:Þorláksmessuskata
DESCRIPTION:
URL:https://narfeyrarstofa.is/event/thorlaksmessuskata/
LOCATION:Narfeyrarstofa\, Aðalgata 3\, 340 Stykkishólmur\, IS340\, Iceland
CATEGORIES:Events-Info
ATTACH;FMTTYPE=image/jpeg:https://narfeyrarstofa.is/wp-content/uploads/2019/11/skata_stor_231215-unn-copy.jpg
END:VEVENT
BEGIN:VEVENT
DTSTART;TZID=UTC:20191214T110000
DTEND;TZID=UTC:20191214T143000
DTSTAMP:20260420T161836
CREATED:20191108T132320Z
LAST-MODIFIED:20191108T132610Z
UID:3048-1576321200-1576333800@narfeyrarstofa.is
SUMMARY:Open for lunch / Opið í hádeginu
DESCRIPTION:
URL:https://narfeyrarstofa.is/event/open-for-lunch-opid-i-hadeginu/
LOCATION:Narfeyrarstofa\, Aðalgata 3\, 340 Stykkishólmur\, IS340\, Iceland
CATEGORIES:Events-Info
END:VEVENT
BEGIN:VEVENT
DTSTART;TZID=UTC:20191207T120000
DTEND;TZID=UTC:20191207T160000
DTSTAMP:20260420T161836
CREATED:20191021T144826Z
LAST-MODIFIED:20191022T125524Z
UID:3001-1575720000-1575734400@narfeyrarstofa.is
SUMMARY:JÓLA POP-UP OG JÓLABRÖNS – XMAS POP-UP AND XMAS BRUNCH
DESCRIPTION:Á neðri hæðinni verður okkar margrómaða Jóla Pop-Up þar sem við bjóðum smakk og til sölu okkar eigin framleiðslu. Á boðstólum verður gæs\, ærkjört\, pylsur\, hangiket auk þess sem við frumsýnum nýjan graflax fyrir þessi jól þar sem við förum ótroðnar slóðir í kryddum! Á efri hæðinni bjóðum við samhliða upp á Jólabröns þar sem boðið verður upp á okkar eigin framleiðslu af kjöt-\, fisk- og grænkerafæði með jólalegum blæ. \nÍ ár bjóðum við einnig upp á fullbúnar gjafaöskjur úr eldhúsinu okkar. Þar verður góðgætið sett saman að óskum viðskiptavina og pakkað í fallega öskju. \n– Our own Icelandic local food made in our kitchen from scratch\, to taste and for sale as well as Christmas Brunch. –
URL:https://narfeyrarstofa.is/event/jola-pop-up-og-jolabrons-xmas-pop-up-and-xmas-brunch/
LOCATION:Narfeyrarstofa\, Aðalgata 3\, 340 Stykkishólmur\, IS340\, Iceland
CATEGORIES:Events-Info
ATTACH;FMTTYPE=image/jpeg:https://narfeyrarstofa.is/wp-content/uploads/2019/10/narfeyrarstofa-pop-up-3.jpg
END:VEVENT
BEGIN:VEVENT
DTSTART;TZID=UTC:20191130T160000
DTEND;TZID=UTC:20191130T230000
DTSTAMP:20260420T161836
CREATED:20191022T125839Z
LAST-MODIFIED:20191022T125839Z
UID:3013-1575129600-1575154800@narfeyrarstofa.is
SUMMARY:Lokað í kvöld vegna einkasamkvæmis - Closed tonight due to private function!
DESCRIPTION:
URL:https://narfeyrarstofa.is/event/lokad-i-kvold-vegna-einkasamkvaemis-closed-tonight-due-to-private-function/
CATEGORIES:Events-Info
END:VEVENT
BEGIN:VEVENT
DTSTART;TZID=UTC:20191130T120000
DTEND;TZID=UTC:20191130T160000
DTSTAMP:20260420T161836
CREATED:20191021T144516Z
LAST-MODIFIED:20191022T125546Z
UID:2996-1575115200-1575129600@narfeyrarstofa.is
SUMMARY:Jóla Pop-Up og Jólabröns - Xmas Pop-Up and Xmas Brunch
DESCRIPTION:Á neðri hæðinni verður okkar margrómaða Jóla Pop-Up þar sem við bjóðum smakk og til sölu okkar eigin framleiðslu. Á boðstólum verður gæs\, ærkjört\, pylsur\, hangiket auk þess sem við frumsýnum nýjan graflax fyrir þessi jól þar sem við förum ótroðnar slóðir í kryddum! Á efri hæðinni bjóðum við samhliða upp á Jólabröns þar sem boðið verður upp á okkar eigin framleiðslu af kjöt-\, fisk- og grænkerafæði með jólalegum blæ. \nÍ ár bjóðum við einnig upp á fullbúnar gjafaöskjur úr eldhúsinu okkar. Þar verður góðgætið sett saman að óskum viðskiptavina og pakkað í fallega öskju. \n– Our own Icelandic local food made in our kitchen from scratch\, to taste and for sale as well as Christmas Brunch. –
URL:https://narfeyrarstofa.is/event/jola-pop-up-og-jolabrons-xmas-pop-up-and-xmas-brunch/
LOCATION:Narfeyrarstofa\, Aðalgata 3\, 340 Stykkishólmur\, IS340\, Iceland
CATEGORIES:Events-Info
ATTACH;FMTTYPE=image/jpeg:https://narfeyrarstofa.is/wp-content/uploads/2019/10/narfeyrarstofa-pop-up-3.jpg
END:VEVENT
BEGIN:VEVENT
DTSTART;TZID=UTC:20191129T113000
DTEND;TZID=UTC:20191129T143000
DTSTAMP:20260420T161836
CREATED:20191108T132519Z
LAST-MODIFIED:20191108T132519Z
UID:3052-1575027000-1575037800@narfeyrarstofa.is
SUMMARY:Open for lunch / Opið í hádeginu
DESCRIPTION:
URL:https://narfeyrarstofa.is/event/open-for-lunch-opid-i-hadeginu/
LOCATION:Narfeyrarstofa\, Aðalgata 3\, 340 Stykkishólmur\, IS340\, Iceland
CATEGORIES:Events-Info
END:VEVENT
BEGIN:VEVENT
DTSTART;TZID=UTC:20191123T110000
DTEND;TZID=UTC:20191123T210000
DTSTAMP:20260420T161836
CREATED:20191108T131356Z
LAST-MODIFIED:20191108T131356Z
UID:3039-1574506800-1574542800@narfeyrarstofa.is
SUMMARY:Open for lunch / Opið í hádeginu.
DESCRIPTION:
URL:https://narfeyrarstofa.is/event/open-for-lunch-opid-i-hadeginu/
LOCATION:Narfeyrarstofa\, Aðalgata 3\, 340 Stykkishólmur\, IS340\, Iceland
CATEGORIES:Events-Info
END:VEVENT
BEGIN:VEVENT
DTSTART;TZID=UTC:20191116T110000
DTEND;TZID=UTC:20191116T210000
DTSTAMP:20260420T161836
CREATED:20191108T131209Z
LAST-MODIFIED:20191108T131252Z
UID:3037-1573902000-1573938000@narfeyrarstofa.is
SUMMARY:Open for Lunch/Opið í hádeginu
DESCRIPTION:
URL:https://narfeyrarstofa.is/event/open-for-lunch-opid-i-hadeginu/
LOCATION:Narfeyrarstofa\, Aðalgata 3\, 340 Stykkishólmur\, IS340\, Iceland
CATEGORIES:Events-Info
END:VEVENT
BEGIN:VEVENT
DTSTART;TZID=UTC:20191115T120000
DTEND;TZID=UTC:20191115T160000
DTSTAMP:20260420T161836
CREATED:20191022T130547Z
LAST-MODIFIED:20191022T130547Z
UID:3027-1573819200-1573833600@narfeyrarstofa.is
SUMMARY:Hádegistilboð/Lunch offer
DESCRIPTION:
URL:https://narfeyrarstofa.is/event/hadegistilbod-lunch-offer/
CATEGORIES:Events-Info
END:VEVENT
BEGIN:VEVENT
DTSTART;TZID=UTC:20191108T170000
DTEND;TZID=UTC:20191223T210000
DTSTAMP:20260420T161836
CREATED:20191108T131815Z
LAST-MODIFIED:20191108T132142Z
UID:3041-1573232400-1577134800@narfeyrarstofa.is
SUMMARY:Open / Opið
DESCRIPTION:
URL:https://narfeyrarstofa.is/event/open-opid/
LOCATION:Narfeyrarstofa\, Aðalgata 3\, 340 Stykkishólmur\, IS340\, Iceland
CATEGORIES:Events-Info
END:VEVENT
BEGIN:VEVENT
DTSTART;TZID=UTC:20191101T120000
DTEND;TZID=UTC:20191101T160000
DTSTAMP:20260420T161836
CREATED:20191022T130439Z
LAST-MODIFIED:20191022T130439Z
UID:3023-1572609600-1572624000@narfeyrarstofa.is
SUMMARY:Hádegistilboð/Lunch offer
DESCRIPTION:
URL:https://narfeyrarstofa.is/event/hadegistilbod-lunch-offer/
CATEGORIES:Events-Info
END:VEVENT
BEGIN:VEVENT
DTSTART;TZID=UTC:20191031T180000
DTEND;TZID=UTC:20191031T210000
DTSTAMP:20260420T161836
CREATED:20191022T101904Z
LAST-MODIFIED:20191022T101904Z
UID:3010-1572544800-1572555600@narfeyrarstofa.is
SUMMARY:Jólabjórinn kynntur - Yulebeer
DESCRIPTION:Við rennum jólabjór á kranana og bjóðum upp á sérstök tilboð af því tilefni. Meira síðar! \nThe Icelandic Yulebeer is on tap from now on and some in bottles. Special offer tonight!
URL:https://narfeyrarstofa.is/event/jolabjorinn-kynntur-yulebeer/
LOCATION:Narfeyrarstofa\, Aðalgata 3\, 340 Stykkishólmur\, IS340\, Iceland
CATEGORIES:Events-Info
ATTACH;FMTTYPE=image/jpeg:https://narfeyrarstofa.is/wp-content/uploads/2019/10/bjordaela-1.jpg
END:VEVENT
BEGIN:VEVENT
DTSTART;TZID=UTC:20191028T120000
DTEND;TZID=UTC:20191103T210000
DTSTAMP:20260420T161836
CREATED:20191009T165756Z
LAST-MODIFIED:20191021T145413Z
UID:2915-1572264000-1572814800@narfeyrarstofa.is
SUMMARY:Our Lunch Week
DESCRIPTION:We’re open this week for lunch! The other week Sjávarpakkhúsið is open!
URL:https://narfeyrarstofa.is/event/our-lunch-week/
CATEGORIES:Events-Info
END:VEVENT
BEGIN:VEVENT
DTSTART;TZID=UTC:20191022T120000
DTEND;TZID=UTC:20191022T210000
DTSTAMP:20260420T161836
CREATED:20191022T130135Z
LAST-MODIFIED:20191022T130135Z
UID:3019-1571745600-1571778000@narfeyrarstofa.is
SUMMARY:Opið í hádeginu /Open for lunch!
DESCRIPTION:
URL:https://narfeyrarstofa.is/event/opid-i-hadeginu-open-for-lunch/
CATEGORIES:Events-Info
END:VEVENT
BEGIN:VEVENT
DTSTART;TZID=UTC:20191021T120000
DTEND;TZID=UTC:20191021T210000
DTSTAMP:20260420T161836
CREATED:20191022T130100Z
LAST-MODIFIED:20191022T130100Z
UID:3017-1571659200-1571691600@narfeyrarstofa.is
SUMMARY:Opið í hádeginu /Open for lunch!
DESCRIPTION:
URL:https://narfeyrarstofa.is/event/opid-i-hadeginu-open-for-lunch/
CATEGORIES:Events-Info
END:VEVENT
BEGIN:VEVENT
DTSTART;VALUE=DATE:20191017
DTEND;VALUE=DATE:20191018
DTSTAMP:20260420T161836
CREATED:20191009T170230Z
LAST-MODIFIED:20191009T170230Z
UID:2920-1571270400-1571356799@narfeyrarstofa.is
SUMMARY:Winterbar - Vetrarbar
DESCRIPTION:Hot drink outside in a warm tent in the winter? Why not! \nHeitur drykkur í hlýju tjaldinu að vetri? Af hverju ekki!
URL:https://narfeyrarstofa.is/event/winterbar-vetrarbar/
CATEGORIES:Events-Info
ATTACH;FMTTYPE=image/jpeg:https://narfeyrarstofa.is/wp-content/uploads/2019/10/narf-blaberja-mohito-1-4.jpg
END:VEVENT
BEGIN:VEVENT
DTSTART;VALUE=DATE:20191014
DTEND;VALUE=DATE:20191018
DTSTAMP:20260420T161836
CREATED:20190930T161400Z
LAST-MODIFIED:20191009T165639Z
UID:2898-1571011200-1571356799@narfeyrarstofa.is
SUMMARY:Our Lunch week!
DESCRIPTION:We’re open for lunch this week! The other week Sjávarpakkhúsið is open!
URL:https://narfeyrarstofa.is/event/lunchtime-in-winter/
CATEGORIES:Events-Info
END:VEVENT
BEGIN:VEVENT
DTSTART;TZID=UTC:20191011T120000
DTEND;TZID=UTC:20191011T170000
DTSTAMP:20260420T161836
CREATED:20191009T165950Z
LAST-MODIFIED:20191009T165950Z
UID:2917-1570795200-1570813200@narfeyrarstofa.is
SUMMARY:Friday offer - Fancy a lamb? Föstudagsfé - Tilboð
DESCRIPTION:Kindin Einar/Grillað lambakjöt af nýslátru í brauði á tilboði í hádeginu föstudaginn 11. október. 2000 kr. / Fresh lambmeat in a bun or lambburger offer friday October 11 – ONLY 2000 IKR
URL:https://narfeyrarstofa.is/event/friday-offer-fancy-a-lamb-fostudagsfe-tilbod/
ATTACH;FMTTYPE=image/jpeg:https://narfeyrarstofa.is/wp-content/uploads/2019/10/narfeyrarstofa-flyer-19-2-3.jpg
END:VEVENT
BEGIN:VEVENT
DTSTART;VALUE=DATE:20191004
DTEND;VALUE=DATE:20191007
DTSTAMP:20260420T161836
CREATED:20190917T152009Z
LAST-MODIFIED:20190930T161152Z
UID:2751-1570147200-1570406399@narfeyrarstofa.is
SUMMARY:Haustfrí/Autumn break
DESCRIPTION:Örstutt haustfrí með starfsfólki Narfeyrarstofu. \nShort Autumn break with our lovely staff at Narfeyrarstofa
URL:https://narfeyrarstofa.is/event/haustfri-autumn-break/
ATTACH;FMTTYPE=image/jpeg:https://narfeyrarstofa.is/wp-content/uploads/2019/09/ss.hestar.haust-1.jpg
END:VEVENT
END:VCALENDAR