BEGIN:VCALENDAR
VERSION:2.0
PRODID:-//Narfeyrarstofa - ECPv6.15.20//NONSGML v1.0//EN
CALSCALE:GREGORIAN
METHOD:PUBLISH
X-ORIGINAL-URL:https://narfeyrarstofa.is
X-WR-CALDESC:Events for Narfeyrarstofa
REFRESH-INTERVAL;VALUE=DURATION:PT1H
X-Robots-Tag:noindex
X-PUBLISHED-TTL:PT1H
BEGIN:VTIMEZONE
TZID:UTC
BEGIN:STANDARD
TZOFFSETFROM:+0000
TZOFFSETTO:+0000
TZNAME:UTC
DTSTART:20180101T000000
END:STANDARD
END:VTIMEZONE
BEGIN:VEVENT
DTSTART;TZID=UTC:20230330T200000
DTEND;TZID=UTC:20230330T233000
DTSTAMP:20260420T124437
CREATED:20230210T145530Z
LAST-MODIFIED:20230210T145530Z
UID:3341-1680206400-1680219000@narfeyrarstofa.is
SUMMARY:Skákkvöld - Chessnight
DESCRIPTION:
URL:https://narfeyrarstofa.is/event/skakkvold-chessnight/
CATEGORIES:Events-Info
ATTACH;FMTTYPE=image/jpeg:https://narfeyrarstofa.is/wp-content/uploads/2023/02/skak.jpg
END:VEVENT
BEGIN:VEVENT
DTSTART;TZID=UTC:20230323T200000
DTEND;TZID=UTC:20230323T233000
DTSTAMP:20260420T124437
CREATED:20230210T144622Z
LAST-MODIFIED:20230210T144622Z
UID:3332-1679601600-1679614200@narfeyrarstofa.is
SUMMARY:Prjónaklúbbur - Knitting night
DESCRIPTION:
URL:https://narfeyrarstofa.is/event/prjonaklubbur-knitting-night/
CATEGORIES:Events-Info
ATTACH;FMTTYPE=image/jpeg:https://narfeyrarstofa.is/wp-content/uploads/2023/02/321491026_6080264015352064_7154113490450449028_n.jpg
END:VEVENT
BEGIN:VEVENT
DTSTART;TZID=UTC:20230316T200000
DTEND;TZID=UTC:20230316T233000
DTSTAMP:20260420T124437
CREATED:20230210T145451Z
LAST-MODIFIED:20230210T145451Z
UID:3339-1678996800-1679009400@narfeyrarstofa.is
SUMMARY:Skákkvöld - Chessnight
DESCRIPTION:
URL:https://narfeyrarstofa.is/event/skakkvold-chessnight/
CATEGORIES:Events-Info
ATTACH;FMTTYPE=image/jpeg:https://narfeyrarstofa.is/wp-content/uploads/2023/02/skak.jpg
END:VEVENT
BEGIN:VEVENT
DTSTART;TZID=UTC:20230309T200000
DTEND;TZID=UTC:20230309T233000
DTSTAMP:20260420T124437
CREATED:20230210T144530Z
LAST-MODIFIED:20230210T144530Z
UID:3329-1678392000-1678404600@narfeyrarstofa.is
SUMMARY:Prjónaklúbbur - Knitting night
DESCRIPTION:
URL:https://narfeyrarstofa.is/event/prjonaklubbur-knitting-night/
CATEGORIES:Events-Info
ATTACH;FMTTYPE=image/jpeg:https://narfeyrarstofa.is/wp-content/uploads/2023/02/321491026_6080264015352064_7154113490450449028_n.jpg
END:VEVENT
BEGIN:VEVENT
DTSTART;TZID=UTC:20230302T200000
DTEND;TZID=UTC:20230302T233000
DTSTAMP:20260420T124437
CREATED:20230210T145400Z
LAST-MODIFIED:20230210T145400Z
UID:3337-1677787200-1677799800@narfeyrarstofa.is
SUMMARY:Skákkvöld - Chessnight
DESCRIPTION:
URL:https://narfeyrarstofa.is/event/skakkvold-chessnight/
CATEGORIES:Events-Info
ATTACH;FMTTYPE=image/jpeg:https://narfeyrarstofa.is/wp-content/uploads/2023/02/skak.jpg
END:VEVENT
BEGIN:VEVENT
DTSTART;VALUE=DATE:20230224
DTEND;VALUE=DATE:20230227
DTSTAMP:20260420T124437
CREATED:20230210T162559Z
LAST-MODIFIED:20230210T162600Z
UID:3344-1677196800-1677455999@narfeyrarstofa.is
SUMMARY:Hræðileg helgi í Hólminum og Náladofi á Narfeyrarstofu
DESCRIPTION:Göróttur Glæsir \n„Ég er kominn hingað til að drepa. Það kann ég.“ sagði nautið Glæsir í samnefndri skáldsögu eftir Ármann Jakobsson sem byggir á atburðum og persónum Eyrbyggja sögu. Glæsir var nefndur til sögunnar sem afturganga hins litskrúðuga Þórólfs Bægifótar sem hlaut skaða á fæti\, gott ef ekki við hólmgöngu vegna jarðaeigna í Álftarfirði. Kokkteillinn sem við Glæsi er kenndur er útataður blóði og blandast inn í hann áhrif bola\, manns og draugs! \nOpið 24. – 26. febrúar 2023 \nFöstudagur:  Opið í hádeginu 12-14 og frá kl. 18 \nVínstúkan opnar kl. 18 \n22:00 Hlaðvarpið Myrkur „í beinni“ fjallar um hina ýmsu glæpi.  Kokkteillinn Göróttur Glæsir kynntur til sögunnar! \nLaugardagur: Opið 12-14 og frá kl. 18 \nVínstúkan opnar kl. 16 \n17:00 Hlaðvarpið Myrka Ísland „í beinni“ fjallar um íslensk fjöldmorð. Göróttur Glæsir á boðstólum. \nSunnudagur: \nOpið 12-14 og frá kl. 18 \nBorðapantanir á Dineout.
URL:https://narfeyrarstofa.is/event/hraedileg-helgi-i-holminum-og-naladofi-a-narfeyrarstofu/
CATEGORIES:Events-Info
ATTACH;FMTTYPE=image/png:https://narfeyrarstofa.is/wp-content/uploads/2023/02/hraedileg-1.png
END:VEVENT
BEGIN:VEVENT
DTSTART;TZID=UTC:20230223T200000
DTEND;TZID=UTC:20230223T233000
DTSTAMP:20260420T124437
CREATED:20230210T144138Z
LAST-MODIFIED:20230210T144654Z
UID:3327-1677182400-1677195000@narfeyrarstofa.is
SUMMARY:Prjónaklúbbur - Knitting night
DESCRIPTION:
URL:https://narfeyrarstofa.is/event/prjonaklubbur-knitting-night/
CATEGORIES:Events-Info
ATTACH;FMTTYPE=image/jpeg:https://narfeyrarstofa.is/wp-content/uploads/2023/02/321491026_6080264015352064_7154113490450449028_n.jpg
END:VEVENT
BEGIN:VEVENT
DTSTART;TZID=UTC:20230216T200000
DTEND;TZID=UTC:20230216T233000
DTSTAMP:20260420T124437
CREATED:20230210T145308Z
LAST-MODIFIED:20230210T145308Z
UID:3334-1676577600-1676590200@narfeyrarstofa.is
SUMMARY:Skákkvöld - Chessnight
DESCRIPTION:
URL:https://narfeyrarstofa.is/event/skakkvold-chessnight/
CATEGORIES:Events-Info
ATTACH;FMTTYPE=image/jpeg:https://narfeyrarstofa.is/wp-content/uploads/2023/02/skak.jpg
END:VEVENT
BEGIN:VEVENT
DTSTART;TZID=UTC:20221210T200000
DTEND;TZID=UTC:20221210T233000
DTSTAMP:20260420T124437
CREATED:20221004T104730Z
LAST-MODIFIED:20221004T104730Z
UID:3291-1670702400-1670715000@narfeyrarstofa.is
SUMMARY:Jólaseðill - Christmas Menu
DESCRIPTION:
URL:https://narfeyrarstofa.is/event/jolasedill-christmas-menu/
END:VEVENT
BEGIN:VEVENT
DTSTART;TZID=UTC:20221203T200000
DTEND;TZID=UTC:20221203T233000
DTSTAMP:20260420T124437
CREATED:20221004T104652Z
LAST-MODIFIED:20221004T104652Z
UID:3289-1670097600-1670110200@narfeyrarstofa.is
SUMMARY:Jólaseðill - Christmas Menu
DESCRIPTION:
URL:https://narfeyrarstofa.is/event/jolasedill-christmas-menu/
END:VEVENT
BEGIN:VEVENT
DTSTART;TZID=UTC:20221124T200000
DTEND;TZID=UTC:20221124T233000
DTSTAMP:20260420T124437
CREATED:20221004T104609Z
LAST-MODIFIED:20221004T104609Z
UID:3287-1669320000-1669332600@narfeyrarstofa.is
SUMMARY:Spilakvöld - Game Night
DESCRIPTION:
URL:https://narfeyrarstofa.is/event/spilakvold-game-night/
END:VEVENT
BEGIN:VEVENT
DTSTART;TZID=UTC:20221118T200000
DTEND;TZID=UTC:20221118T233000
DTSTAMP:20260420T124437
CREATED:20221004T104529Z
LAST-MODIFIED:20221004T104529Z
UID:3285-1668801600-1668814200@narfeyrarstofa.is
SUMMARY:Herrakvöld - Gentleman's Night
DESCRIPTION:
URL:https://narfeyrarstofa.is/event/herrakvold-gentlemans-night/
END:VEVENT
BEGIN:VEVENT
DTSTART;TZID=UTC:20221117T200000
DTEND;TZID=UTC:20221117T233000
DTSTAMP:20260420T124437
CREATED:20221004T104442Z
LAST-MODIFIED:20221004T104442Z
UID:3283-1668715200-1668727800@narfeyrarstofa.is
SUMMARY:Prjónaklúbbur - Knitting night
DESCRIPTION:
URL:https://narfeyrarstofa.is/event/prjonaklubbur-knitting-night/
END:VEVENT
BEGIN:VEVENT
DTSTART;TZID=UTC:20221110T200000
DTEND;TZID=UTC:20221110T233000
DTSTAMP:20260420T124437
CREATED:20221004T104244Z
LAST-MODIFIED:20221004T104244Z
UID:3281-1668110400-1668123000@narfeyrarstofa.is
SUMMARY:Spilakvöld - Game Night
DESCRIPTION:
URL:https://narfeyrarstofa.is/event/spilakvold-game-night/
END:VEVENT
BEGIN:VEVENT
DTSTART;TZID=UTC:20221104T200000
DTEND;TZID=UTC:20221104T233000
DTSTAMP:20260420T124437
CREATED:20221004T104157Z
LAST-MODIFIED:20221004T104157Z
UID:3279-1667592000-1667604600@narfeyrarstofa.is
SUMMARY:Konukvöld - Ladies Night
DESCRIPTION:
URL:https://narfeyrarstofa.is/event/konukvold-ladies-night/
END:VEVENT
BEGIN:VEVENT
DTSTART;TZID=UTC:20221103T200000
DTEND;TZID=UTC:20221103T220000
DTSTAMP:20260420T124437
CREATED:20221004T104109Z
LAST-MODIFIED:20221004T104109Z
UID:3277-1667505600-1667512800@narfeyrarstofa.is
SUMMARY:Spilakvöld - Game Night
DESCRIPTION:
URL:https://narfeyrarstofa.is/event/spilakvold-game-night/
END:VEVENT
BEGIN:VEVENT
DTSTART;TZID=UTC:20221027T200000
DTEND;TZID=UTC:20221027T220000
DTSTAMP:20260420T124437
CREATED:20221004T103947Z
LAST-MODIFIED:20221004T103947Z
UID:3273-1666900800-1666908000@narfeyrarstofa.is
SUMMARY:Prjónaklúbbur - Knitting night
DESCRIPTION:
URL:https://narfeyrarstofa.is/event/prjonaklubbur-knitting-night/
END:VEVENT
BEGIN:VEVENT
DTSTART;TZID=UTC:20221021T200000
DTEND;TZID=UTC:20221021T230000
DTSTAMP:20260420T124437
CREATED:20221004T104033Z
LAST-MODIFIED:20221004T104033Z
UID:3275-1666382400-1666393200@narfeyrarstofa.is
SUMMARY:Hagyrðingakvöld
DESCRIPTION:
URL:https://narfeyrarstofa.is/event/hagyrdingakvold/
END:VEVENT
BEGIN:VEVENT
DTSTART;TZID=UTC:20221020T200000
DTEND;TZID=UTC:20221020T220000
DTSTAMP:20260420T124437
CREATED:20221004T103905Z
LAST-MODIFIED:20221004T103905Z
UID:3271-1666296000-1666303200@narfeyrarstofa.is
SUMMARY:Spilakvöld - Game Night
DESCRIPTION:
URL:https://narfeyrarstofa.is/event/spilakvold-game-night/
END:VEVENT
BEGIN:VEVENT
DTSTART;TZID=UTC:20221015T200000
DTEND;TZID=UTC:20221015T233000
DTSTAMP:20260420T124437
CREATED:20221004T103819Z
LAST-MODIFIED:20221004T103819Z
UID:3269-1665864000-1665876600@narfeyrarstofa.is
SUMMARY:Októberfest - October Beer festival
DESCRIPTION:
URL:https://narfeyrarstofa.is/event/oktoberfest-october-beer-festival/
END:VEVENT
BEGIN:VEVENT
DTSTART;TZID=UTC:20221013T200000
DTEND;TZID=UTC:20221013T220000
DTSTAMP:20260420T124437
CREATED:20221004T103725Z
LAST-MODIFIED:20221004T103725Z
UID:3267-1665691200-1665698400@narfeyrarstofa.is
SUMMARY:Prjónaklúbbur - Knitting night
DESCRIPTION:
URL:https://narfeyrarstofa.is/event/prjonaklubbur-knitting-night/
END:VEVENT
BEGIN:VEVENT
DTSTART;TZID=UTC:20221006T200000
DTEND;TZID=UTC:20221006T230000
DTSTAMP:20260420T124437
CREATED:20221004T103228Z
LAST-MODIFIED:20221004T103228Z
UID:3264-1665086400-1665097200@narfeyrarstofa.is
SUMMARY:Spilakvöld / Game night
DESCRIPTION:
URL:https://narfeyrarstofa.is/event/spilakvold-game-night/
END:VEVENT
BEGIN:VEVENT
DTSTART;VALUE=DATE:20210521
DTEND;VALUE=DATE:20210524
DTSTAMP:20260420T124437
CREATED:20210226T104638Z
LAST-MODIFIED:20210226T110633Z
UID:3164-1621555200-1621814399@narfeyrarstofa.is
SUMMARY:Cocktail Weekend in Stykkishólmur - Hanastélshelgi í Hólminum
DESCRIPTION:Stykkishólmur Cocktail Weekend/Hanasstélshelgi í Hólminum verður haldin um Hvítasunnuna 21. – 23. maí 2021.\nVið tökum þátt og hvetjum aðdáendur kokteila til að taka frá þessa daga.\nHvað dettur kokteilgerðarfólki í hug þetta árið???\nFylgist með!\n\nStykkishólmur Cocktail Weekend will be held in Stykkishólmur Friday-Sunday May 21.-23.\, 2021.\nRestaurants/Bars in Stykkishólmur take part in a exciting competition for the best cocktail in 2021.\nStay tuned!
URL:https://narfeyrarstofa.is/event/cocktail-weekend-in-stykkisholmur-hanastelshelgi-i-holminum/
LOCATION:Narfeyrarstofa\, Aðalgata 3\, 340 Stykkishólmur\, IS340\, Iceland
ATTACH;FMTTYPE=image/jpeg:https://narfeyrarstofa.is/wp-content/uploads/2019/09/narf.vefmyndir.19-1-11.jpg
END:VEVENT
BEGIN:VEVENT
DTSTART;VALUE=DATE:20200101
DTEND;VALUE=DATE:20200201
DTSTAMP:20260420T124437
CREATED:20191022T132501Z
LAST-MODIFIED:20191022T132501Z
UID:3033-1577836800-1580515199@narfeyrarstofa.is
SUMMARY:Janúarlokun! / Closed in January
DESCRIPTION:We’re closed in January but our good friends at Sjávarpakkhúsið are open! See you in February! \nLokað hjá okkur í janúar en vinir okkar á Sjávarpakkhúsinu taka vel á móti gestum. Sjáumst í febrúar
URL:https://narfeyrarstofa.is/event/januarlokun-closed-in-january/
CATEGORIES:Events-Info
END:VEVENT
BEGIN:VEVENT
DTSTART;TZID=UTC:20191227T050000
DTEND;TZID=UTC:20191230T090000
DTSTAMP:20260420T124437
CREATED:20191108T131849Z
LAST-MODIFIED:20191108T132040Z
UID:3043-1577422800-1577696400@narfeyrarstofa.is
SUMMARY:Open / Opið
DESCRIPTION:
URL:https://narfeyrarstofa.is/event/closed-lokad-christmas-time/
LOCATION:Narfeyrarstofa\, Aðalgata 3\, 340 Stykkishólmur\, IS340\, Iceland
CATEGORIES:Events-Info
ATTACH;FMTTYPE=image/jpeg:https://narfeyrarstofa.is/wp-content/uploads/2019/11/narf-jola-1-2.jpg
END:VEVENT
BEGIN:VEVENT
DTSTART;VALUE=DATE:20191224
DTEND;VALUE=DATE:20191227
DTSTAMP:20260420T124437
CREATED:20191108T132955Z
LAST-MODIFIED:20191108T132955Z
UID:3056-1577145600-1577404799@narfeyrarstofa.is
SUMMARY:Closed for Christmas / Lokað yfir hátíðirnar
DESCRIPTION:
URL:https://narfeyrarstofa.is/event/closed-for-christmas-lokad-yfir-hatidirnar/
LOCATION:Narfeyrarstofa\, Aðalgata 3\, 340 Stykkishólmur\, IS340\, Iceland
CATEGORIES:Events-Info
ATTACH;FMTTYPE=image/jpeg:https://narfeyrarstofa.is/wp-content/uploads/2019/11/narf-jola-2.jpg
END:VEVENT
BEGIN:VEVENT
DTSTART;TZID=UTC:20191223T113000
DTEND;TZID=UTC:20191223T170000
DTSTAMP:20260420T124437
CREATED:20191108T133121Z
LAST-MODIFIED:20191108T133121Z
UID:3059-1577100600-1577120400@narfeyrarstofa.is
SUMMARY:Þorláksmessuskata
DESCRIPTION:
URL:https://narfeyrarstofa.is/event/thorlaksmessuskata/
LOCATION:Narfeyrarstofa\, Aðalgata 3\, 340 Stykkishólmur\, IS340\, Iceland
CATEGORIES:Events-Info
ATTACH;FMTTYPE=image/jpeg:https://narfeyrarstofa.is/wp-content/uploads/2019/11/skata_stor_231215-unn-copy.jpg
END:VEVENT
BEGIN:VEVENT
DTSTART;TZID=UTC:20191214T110000
DTEND;TZID=UTC:20191214T143000
DTSTAMP:20260420T124437
CREATED:20191108T132320Z
LAST-MODIFIED:20191108T132610Z
UID:3048-1576321200-1576333800@narfeyrarstofa.is
SUMMARY:Open for lunch / Opið í hádeginu
DESCRIPTION:
URL:https://narfeyrarstofa.is/event/open-for-lunch-opid-i-hadeginu/
LOCATION:Narfeyrarstofa\, Aðalgata 3\, 340 Stykkishólmur\, IS340\, Iceland
CATEGORIES:Events-Info
END:VEVENT
BEGIN:VEVENT
DTSTART;TZID=UTC:20191207T120000
DTEND;TZID=UTC:20191207T160000
DTSTAMP:20260420T124437
CREATED:20191021T144826Z
LAST-MODIFIED:20191022T125524Z
UID:3001-1575720000-1575734400@narfeyrarstofa.is
SUMMARY:JÓLA POP-UP OG JÓLABRÖNS – XMAS POP-UP AND XMAS BRUNCH
DESCRIPTION:Á neðri hæðinni verður okkar margrómaða Jóla Pop-Up þar sem við bjóðum smakk og til sölu okkar eigin framleiðslu. Á boðstólum verður gæs\, ærkjört\, pylsur\, hangiket auk þess sem við frumsýnum nýjan graflax fyrir þessi jól þar sem við förum ótroðnar slóðir í kryddum! Á efri hæðinni bjóðum við samhliða upp á Jólabröns þar sem boðið verður upp á okkar eigin framleiðslu af kjöt-\, fisk- og grænkerafæði með jólalegum blæ. \nÍ ár bjóðum við einnig upp á fullbúnar gjafaöskjur úr eldhúsinu okkar. Þar verður góðgætið sett saman að óskum viðskiptavina og pakkað í fallega öskju. \n– Our own Icelandic local food made in our kitchen from scratch\, to taste and for sale as well as Christmas Brunch. –
URL:https://narfeyrarstofa.is/event/jola-pop-up-og-jolabrons-xmas-pop-up-and-xmas-brunch/
LOCATION:Narfeyrarstofa\, Aðalgata 3\, 340 Stykkishólmur\, IS340\, Iceland
CATEGORIES:Events-Info
ATTACH;FMTTYPE=image/jpeg:https://narfeyrarstofa.is/wp-content/uploads/2019/10/narfeyrarstofa-pop-up-3.jpg
END:VEVENT
BEGIN:VEVENT
DTSTART;TZID=UTC:20191130T160000
DTEND;TZID=UTC:20191130T230000
DTSTAMP:20260420T124437
CREATED:20191022T125839Z
LAST-MODIFIED:20191022T125839Z
UID:3013-1575129600-1575154800@narfeyrarstofa.is
SUMMARY:Lokað í kvöld vegna einkasamkvæmis - Closed tonight due to private function!
DESCRIPTION:
URL:https://narfeyrarstofa.is/event/lokad-i-kvold-vegna-einkasamkvaemis-closed-tonight-due-to-private-function/
CATEGORIES:Events-Info
END:VEVENT
END:VCALENDAR